BEGIN:VCALENDAR
VERSION:2.0
PRODID:icalendar-ruby
CALSCALE:GREGORIAN
METHOD:PUBLISH
BEGIN:VEVENT
DTSTAMP:20260423T011950Z
UID:5-779295@freshstartchristian.com
DTSTART:20261101T160000Z
DTEND:20261101T170000Z
CLASS:PUBLIC
CREATED:20260422T183307
DESCRIPTION:Sunday Worship
LAST-MODIFIED:20260422T183307
LOCATION:
SUMMARY:Sunday Worship
URL;VALUE=URI:https://freshstartchristian.com/events/sunday-worship/2026-11
 -01
END:VEVENT
END:VCALENDAR
