BEGIN:VCALENDAR
VERSION:2.0
PRODID:icalendar-ruby
CALSCALE:GREGORIAN
METHOD:PUBLISH
BEGIN:VEVENT
DTSTAMP:20260422T233500Z
UID:5-779294@freshstartchristian.com
DTSTART:20261025T150000Z
DTEND:20261025T160000Z
CLASS:PUBLIC
CREATED:20260422T183307
DESCRIPTION:Sunday Worship
LAST-MODIFIED:20260422T183307
LOCATION:
SUMMARY:Sunday Worship
URL;VALUE=URI:https://freshstartchristian.com/events/sunday-worship/2026-10
 -25
END:VEVENT
END:VCALENDAR
