BEGIN:VCALENDAR
VERSION:2.0
PRODID:icalendar-ruby
CALSCALE:GREGORIAN
METHOD:PUBLISH
BEGIN:VEVENT
DTSTAMP:20260422T220543Z
UID:5-778754@freshstartchristian.com
DTSTART:20261018T150000Z
DTEND:20261018T160000Z
CLASS:PUBLIC
CREATED:20260422T154047
DESCRIPTION:Sunday Worship
LAST-MODIFIED:20260422T154047
LOCATION:
SUMMARY:Sunday Worship
URL;VALUE=URI:https://freshstartchristian.com/events/sunday-worship/2026-10
 -18
END:VEVENT
END:VCALENDAR
