BEGIN:VCALENDAR
VERSION:2.0
PRODID:icalendar-ruby
CALSCALE:GREGORIAN
METHOD:PUBLISH
BEGIN:VEVENT
DTSTAMP:20260422T183710Z
UID:5-778213@freshstartchristian.com
DTSTART:20261004T150000Z
DTEND:20261004T160000Z
CLASS:PUBLIC
CREATED:20260422T124540
DESCRIPTION:Sunday Worship
LAST-MODIFIED:20260422T124540
LOCATION:
SUMMARY:Sunday Worship
URL;VALUE=URI:https://freshstartchristian.com/events/sunday-worship/2026-10
 -04
END:VEVENT
END:VCALENDAR
