BEGIN:VCALENDAR
VERSION:2.0
PRODID:icalendar-ruby
CALSCALE:GREGORIAN
METHOD:PUBLISH
BEGIN:VEVENT
DTSTAMP:20260422T153015Z
UID:5-777672@freshstartchristian.com
DTSTART:20260920T150000Z
DTEND:20260920T160000Z
CLASS:PUBLIC
CREATED:20260422T095029
DESCRIPTION:Sunday Worship
LAST-MODIFIED:20260422T095029
LOCATION:
SUMMARY:Sunday Worship
URL;VALUE=URI:https://freshstartchristian.com/events/sunday-worship/2026-09
 -20
END:VEVENT
END:VCALENDAR
