BEGIN:VCALENDAR
VERSION:2.0
PRODID:icalendar-ruby
CALSCALE:GREGORIAN
METHOD:PUBLISH
BEGIN:VEVENT
DTSTAMP:20260423T062125Z
UID:2-779573@freshstartchristian.com
DTSTART:20261028T230000Z
DTEND:20261029T000000Z
CLASS:PUBLIC
CREATED:20260422T212629
DESCRIPTION:Weekly Bible Study 6 PM each Wednesday
LAST-MODIFIED:20260422T212629
LOCATION:
SUMMARY:Bible Study
URL;VALUE=URI:https://freshstartchristian.com/events/bible-study/2026-10-28
ATTACH;FILENAME=bible_16667ac.jpg;FMTTYPE=image/jpeg:https://dq5pwpg1q8ru0.
 cloudfront.net/2023/08/27/14/32/46/c6f6ade2-ceff-4b10-838d-baa84605e51e/bi
 ble_16667ac.jpg
ATTACH;FILENAME=bible_16667ac.jpg;FMTTYPE=image/jpeg:https://dq5pwpg1q8ru0.
 cloudfront.net/2023/08/27/14/32/47/c1db2639-6467-43d5-8690-a020ca02cb74/bi
 ble_16667ac.jpg
END:VEVENT
END:VCALENDAR
