BEGIN:VCALENDAR
VERSION:2.0
PRODID:icalendar-ruby
CALSCALE:GREGORIAN
METHOD:PUBLISH
BEGIN:VEVENT
DTSTAMP:20260423T000804Z
UID:2-779030@freshstartchristian.com
DTSTART:20260930T230000Z
DTEND:20261001T000000Z
CLASS:PUBLIC
CREATED:20260422T183307
DESCRIPTION:Weekly Bible Study 6 PM each Wednesday
LAST-MODIFIED:20260422T183307
LOCATION:
SUMMARY:Bible Study
URL;VALUE=URI:https://freshstartchristian.com/events/bible-study/2026-09-30
ATTACH;FILENAME=bible_16667ac.jpg;FMTTYPE=image/jpeg:https://dq5pwpg1q8ru0.
 cloudfront.net/2023/08/27/14/32/46/c6f6ade2-ceff-4b10-838d-baa84605e51e/bi
 ble_16667ac.jpg
ATTACH;FILENAME=bible_16667ac.jpg;FMTTYPE=image/jpeg:https://dq5pwpg1q8ru0.
 cloudfront.net/2023/08/27/14/32/47/c1db2639-6467-43d5-8690-a020ca02cb74/bi
 ble_16667ac.jpg
END:VEVENT
END:VCALENDAR
